BEGIN:VCALENDAR
VERSION:2.0
PRODID:-//Tukios.com/
BEGIN:VEVENT
UID:3648afc4-3350-45e6-b86e-f904781284da@www.vigenmemorialhome.com
DTSTAMP:20260421T224407Z
DTSTART:20260424T180000Z
DTEND:20260424T190000Z
SUMMARY:Funeral Service
DESCRIPTION:
URL:https://www.vigenmemorialhome.com/obituaries/wayne-boltz
LOCATION:First Christian Church 3476 Main Street  Keokuk IA 52632
GEO:40.420664;-91.412537
END:VEVENT
END:VCALENDAR