BEGIN:VCALENDAR
VERSION:2.0
PRODID:-//Tukios.com/
BEGIN:VEVENT
UID:61163484-6c72-49e5-9d8d-90788e30524c@www.vigenmemorialhome.com
DTSTAMP:20260421T225237Z
DTSTART:20260424T170000Z
DTEND:20260424T180000Z
SUMMARY:Visitation
DESCRIPTION:
URL:https://www.vigenmemorialhome.com/obituaries/wayne-boltz
LOCATION:First Christian Church 3476 Main Street  Keokuk IA 52632
GEO:40.420664;-91.412537
END:VEVENT
END:VCALENDAR