BEGIN:VCALENDAR
VERSION:2.0
PRODID:-//Tukios.com/
BEGIN:VEVENT
UID:77565ad4-95dd-4d9e-b560-c06726cf4299@www.vigenmemorialhome.com
DTSTAMP:20260426T020232Z
DTSTART:20260501T160000Z
DTEND:20260501T170000Z
SUMMARY:Graveside Service
DESCRIPTION:
URL:https://www.vigenmemorialhome.com/obituaries/jerlyn-lindsay
LOCATION:Hickory Grove Cemetery 3480 243rd Avenue  Keokuk IA 52632
GEO:40.4527369;-91.443979
END:VEVENT
END:VCALENDAR