BEGIN:VCALENDAR
VERSION:2.0
PRODID:-//Tukios.com/
BEGIN:VEVENT
UID:32232541-3e0b-4b2b-bb62-5b89e2cfe850@www.vigenmemorialhome.com
DTSTAMP:20260421T082217Z
DTSTART:20231129T160000Z
DTEND:20231129T170000Z
SUMMARY:Visitation
DESCRIPTION:
URL:https://www.vigenmemorialhome.com/obituaries/harold-garrison
LOCATION:Vigen Memorial Home - Kahoka 278 W Main St  Kahoka MO 63445
GEO:40.4201538;-91.7217875
END:VEVENT
END:VCALENDAR