BEGIN:VCALENDAR
VERSION:2.0
PRODID:-//Tukios.com/
BEGIN:VEVENT
UID:611355b7-2a58-419a-b0b4-ad889d473f96@www.vigenmemorialhome.com
DTSTAMP:20260421T081611Z
DTSTART:20201109T190000Z
DTEND:20201109T200000Z
SUMMARY:Service
DESCRIPTION:
URL:https://www.vigenmemorialhome.com/obituaries/betty-biddenstadt
LOCATION:Vigen Memorial Home - Keokuk 1328 Concert St  Keokuk IA 52632
GEO:40.4037245;-91.3886456
END:VEVENT
END:VCALENDAR